{ "currentVersion": 11.3, "cimVersion": "3.3.0", "serviceDescription": "
Pullman 2018 hillshade in Web Mercator Auxiliary Sphere projection.<\/span><\/p> This geospatial dataset was created for the City of Pullman, Washington as a seamless 3-foot pixel resolution hillshade image, produced from the DEM derived for Strategic Alliance for Risk Reduction II, Whitman County, Washington Terrain Data Development, Federal Emergency Management Agency - https://hazards.fema.gov.<\/span><\/p><\/div><\/div><\/div>",
"mapName": "Pullman 2018 Hillshade - Map Service",
"description": " Pullman 2018 hillshade in Web Mercator Auxiliary Sphere projection.<\/SPAN><\/P> This geospatial dataset was created for the City of Pullman, Washington as a seamless 3-foot pixel resolution hillshade image, produced from the DEM derived for Strategic Alliance for Risk Reduction II, Whitman County, Washington Terrain Data Development, Federal Emergency Management Agency - https://hazards.fema.gov.<\/SPAN><\/P><\/DIV><\/DIV><\/DIV>",
"copyrightText": "Map Service: City of Pullman GISOriginal Imagery: Strategic Alliance for Risk Reduction II, Washington Terrain Data Development, Federal Emergency Management Agency - https://hazards.fema.gov.",
"supportsDynamicLayers": true,
"layers": [
{
"id": 0,
"name": "Hillshade_c53075C_Whitman_County_WA_3ft_DEM_Pullman.tif",
"parentLayerId": -1,
"defaultVisibility": true,
"subLayerIds": null,
"minScale": 0,
"maxScale": 0,
"type": "Raster Layer",
"supportsDynamicLegends": true
}
],
"tables": [],
"spatialReference": {
"wkid": 102100,
"latestWkid": 3857,
"xyTolerance": 0.001,
"zTolerance": 0.001,
"mTolerance": 0.001,
"falseX": -20037700,
"falseY": -30241100,
"xyUnits": 10000,
"falseZ": -100000,
"zUnits": 10000,
"falseM": -100000,
"mUnits": 10000
},
"singleFusedMapCache": true,
"tileInfo": {
"rows": 256,
"cols": 256,
"dpi": 96,
"format": "Mixed",
"compressionQuality": 75,
"origin": {
"x": -2.0037508342787E7,
"y": 2.0037508342787E7
},
"spatialReference": {
"wkid": 102100,
"latestWkid": 3857,
"xyTolerance": 0.001,
"zTolerance": 0.001,
"mTolerance": 0.001,
"falseX": -20037700,
"falseY": -30241100,
"xyUnits": 1.4892314192838538E8,
"falseZ": -100000,
"zUnits": 10000,
"falseM": -100000,
"mUnits": 10000
},
"lods": [
{
"level": 0,
"resolution": 156543.033928,
"scale": 5.91657527591555E8
},
{
"level": 1,
"resolution": 78271.5169639999,
"scale": 2.95828763795777E8
},
{
"level": 2,
"resolution": 39135.7584820001,
"scale": 1.47914381897889E8
},
{
"level": 3,
"resolution": 19567.8792409999,
"scale": 7.3957190948944E7
},
{
"level": 4,
"resolution": 9783.93962049996,
"scale": 3.6978595474472E7
},
{
"level": 5,
"resolution": 4891.96981024998,
"scale": 1.8489297737236E7
},
{
"level": 6,
"resolution": 2445.98490512499,
"scale": 9244648.868618
},
{
"level": 7,
"resolution": 1222.99245256249,
"scale": 4622324.434309
},
{
"level": 8,
"resolution": 611.49622628138,
"scale": 2311162.217155
},
{
"level": 9,
"resolution": 305.748113140558,
"scale": 1155581.108577
},
{
"level": 10,
"resolution": 152.874056570411,
"scale": 577790.554289
},
{
"level": 11,
"resolution": 76.4370282850732,
"scale": 288895.277144
},
{
"level": 12,
"resolution": 38.2185141425366,
"scale": 144447.638572
},
{
"level": 13,
"resolution": 19.1092570712683,
"scale": 72223.819286
},
{
"level": 14,
"resolution": 9.55462853563415,
"scale": 36111.909643
},
{
"level": 15,
"resolution": 4.77731426794937,
"scale": 18055.954822
},
{
"level": 16,
"resolution": 2.38865713397468,
"scale": 9027.977411
},
{
"level": 17,
"resolution": 1.19432856685505,
"scale": 4513.988705
},
{
"level": 18,
"resolution": 0.597164283559817,
"scale": 2256.994353
},
{
"level": 19,
"resolution": 0.298582141647617,
"scale": 1128.497176
},
{
"level": 20,
"resolution": 0.14929107082380833,
"scale": 564.248588
},
{
"level": 21,
"resolution": 0.07464553541190416,
"scale": 282.124294
},
{
"level": 22,
"resolution": 0.03732276770595208,
"scale": 141.062147
},
{
"level": 23,
"resolution": 0.01866138385297604,
"scale": 70.5310735
}
]
},
"storageInfo": {
"storageFormat": "esriMapCacheStorageModeCompactV2",
"packetSize": 128
},
"initialExtent": {
"xmin": -1.3044405836771714E7,
"ymin": 5898207.485549695,
"xmax": -1.3043788498511927E7,
"ymax": 5898679.601248368,
"spatialReference": {
"cs": "pcs",
"wkid": 102100
}
},
"fullExtent": {
"xmin": -1.3054838415425453E7,
"ymin": 5888949.078165542,
"xmax": -1.3030761911001982E7,
"ymax": 5908625.948950387,
"spatialReference": {
"cs": "pcs",
"wkid": 102100
}
},
"datesInUnknownTimezone": false,
"minScale": 72223.819286,
"maxScale": 70.5310735,
"units": "esriMeters",
"supportedImageFormatTypes": "PNG32,PNG24,PNG,JPG,DIB,TIFF,EMF,PS,PDF,GIF,SVG,SVGZ,BMP",
"documentInfo": {
"Title": "Pullman 2018 Hillshade",
"Author": "",
"Comments": " Pullman 2018 hillshade in Web Mercator Auxiliary Sphere projection.<\/SPAN><\/P> This geospatial dataset was created for the City of Pullman, Washington as a seamless 3-foot pixel resolution hillshade image, produced from the DEM derived for Strategic Alliance for Risk Reduction II, Whitman County, Washington Terrain Data Development, Federal Emergency Management Agency - https://hazards.fema.gov.<\/SPAN><\/P><\/DIV><\/DIV><\/DIV>",
"Subject": "This dataset was created as a geospatial visualization and planning tool for Pullman, Washington.",
"Category": "",
"Version": "2.7.0",
"AntialiasingMode": "Fast",
"TextAntialiasingMode": "Force",
"Keywords": "Pullman,2018,Ortho,Imagery,Aerial,Photography,Hillshade,3-foot"
},
"supportsQueryDomains": true,
"capabilities": "Map,Query,Data",
"supportedQueryFormats": "JSON, geoJSON, PBF",
"exportTilesAllowed": true,
"maxExportTilesCount": 100000,
"referenceScale": 0.0,
"datumTransformations": [
{
"geoTransforms": [
{
"wkid": 108190,
"latestWkid": 108190,
"transformForward": false,
"name": "WGS_1984_(ITRF00)_To_NAD_1983"
}
]
},
{
"geoTransforms": [
{
"wkid": 108190,
"latestWkid": 108190,
"transformForward": true,
"name": "WGS_1984_(ITRF00)_To_NAD_1983"
}
]
}
],
"supportsDatumTransformation": true,
"archivingInfo": {"supportsHistoricMoment": false},
"supportsClipping": true,
"supportsSpatialFilter": true,
"supportsTimeRelation": true,
"supportsQueryDataElements": true,
"mapUnits": {"uwkid": 9001},
"maxRecordCount": 2000,
"maxImageHeight": 4096,
"maxImageWidth": 4096,
"supportedExtensions": "",
"resampling": false,
"serviceItemId": "daca1ac986da485d936bac3cc3399e89"
}