View In:
ArcGIS JavaScript
ArcGIS Online Map Viewer
ArcGIS Earth
ArcGIS Pro
Service Description: Pullman 2023 Ortho Imagery in Washington State Plane South projection.
This geospatial dataset was created for the City of Pullman, Washington as a seamless 3-inch pixel resolution orthorectified aerial imagery and topographic dataset covering approximately 35 square miles of the city and environs. A large-format Leica DMC-3 Imaging Sensor was used to collect the project area on April 19th, with a 60 percent forward / 30 percent side overlap. Native projection is Washington South State Plane, NAD83(2011), NAVD88 with units in US Survey Feet. Control for the project was provided by the City of Pullman and an original surface extraction was generated. The orthophotography content was processed as 24-bit RGB.
This dataset was created as a geospatial visualization and planning tool for Pullman, Washington.
Map Name: Pullman 2023 Ortho - Map Service - JP2
Legend
All Layers and Tables
Dynamic Legend
Dynamic All Layers
Layers:
Description: Pullman 2023 Ortho Imagery in Washington State Plane South projection.
This geospatial dataset was created for the City of Pullman, Washington as a seamless 3-inch pixel resolution orthorectified aerial imagery and topographic dataset covering approximately 35 square miles of the city and environs. A large-format Leica DMC-3 Imaging Sensor was used to collect the project area on April 19th, with a 60 percent forward / 30 percent side overlap. Native projection is Washington South State Plane, NAD83(2011), NAVD88 with units in US Survey Feet. Control for the project was provided by the City of Pullman and an original surface extraction was generated. The orthophotography content was processed as 24-bit RGB.
This dataset was created as a geospatial visualization and planning tool for Pullman, Washington.
Service Item Id: 8149c19a386c42bd88d440af8dac195e
Copyright Text: Map Service: City of Pullman GIS | Original Imagery: Access Geographic, LLC, on behalf of Pullman, Washington
Spatial Reference:
102100
(3857)
Single Fused Map Cache: true
Tile Info:
- Height: 256
- Width: 256
- DPI: 96
-
Levels of Detail: 24
-
Level ID: 1
[ Start Tile, End Tile ]
- Resolution: 78271.5169639999
- Scale: 2.95828763795777E8
-
Level ID: 2
[ Start Tile, End Tile ]
- Resolution: 39135.7584820001
- Scale: 1.47914381897889E8
-
Level ID: 3
[ Start Tile, End Tile ]
- Resolution: 19567.8792409999
- Scale: 7.3957190948944E7
-
Level ID: 4
[ Start Tile, End Tile ]
- Resolution: 9783.93962049996
- Scale: 3.6978595474472E7
-
Level ID: 5
[ Start Tile, End Tile ]
- Resolution: 4891.96981024998
- Scale: 1.8489297737236E7
- Format: Mixed
- Compression Quality: 75.0
- Origin: X: -2.0037508342787E7
Y: 2.0037508342787E7
- Spatial Reference: 102100
(3857)
Storage Info:
- Storage Format: esriMapCacheStorageModeCompactV2
- Packet Size: 128
Initial Extent:
XMin: -1.3051240006772924E7
YMin: 5891801.962228975
XMax: -1.3034665882820074E7
YMax: 5905864.944812426
Spatial Reference: 102100
Full Extent:
XMin: -1.3053031554643469E7
YMin: 5892262.837249371
XMax: -1.3032451635342674E7
YMax: 5905443.707538501
Spatial Reference: 102100
Units: esriMeters
Supported Image Format Types: PNG32,PNG24,PNG,JPG,DIB,TIFF,EMF,PS,PDF,GIF,SVG,SVGZ,BMP
Document Info:
Title: Pullman 2023 Ortho
Author:
Comments: <DIV STYLE="text-align:Left;"><P><SPAN>Pullman 2023 Ortho Imagery in Washington State Plane South projection.</SPAN></P><P><SPAN>This geospatial dataset was created for the City of Pullman, Washington as a seamless 3-inch pixel resolution orthorectified aerial imagery and topographic dataset covering approximately 35 square miles of the city and environs. A large-format Leica DMC-3 Imaging Sensor was used to collect the project area on April 19th, with a 60 percent forward / 30 percent side overlap. Native projection is Washington South State Plane, NAD83(2011), NAVD88 with units in US Survey Feet. Control for the project was provided by the City of Pullman and an original surface extraction was generated. The orthophotography content was processed as 24-bit RGB.</SPAN></P><P><SPAN>This dataset was created as a geospatial visualization and planning tool for Pullman, Washington.</SPAN></P></DIV>
Subject: This dataset was created as a geospatial visualization and planning tool for Pullman, Washington.
Category:
Keywords: Pullman,2023,Ortho,Aerial,Photography,Natural Color,3-inch
AntialiasingMode: Fast
TextAntialiasingMode: Force
Supports Dynamic Layers: true
Resampling: false
MaxRecordCount: 2000
MaxImageHeight: 4096
MaxImageWidth: 4096
Supported Query Formats: JSON, geoJSON, PBF
Supports Query Data Elements: true
Min Scale: 72223.819286
Max Scale: 70.5310735
Supports Datum Transformation: true
Child Resources:
Info
Dynamic Layer
Supported Operations:
Export Map
Identify
QueryLegends
QueryDomains
Find
Return Updates