View In:
ArcGIS JavaScript
ArcGIS Online Map Viewer
ArcGIS Earth
ArcGIS Pro
Service Description: Pullman basemap in Web Mercator Auxiliary Sphere projection.
This geospatial dataset was created for the City of Pullman, Washington as a planimetric line set derived from aerial photography on April 19th 2018.
Map Name: Pullman Basemap - For Cached Service
Legend
All Layers and Tables
Dynamic Legend
Dynamic All Layers
Layers:
Description: Pullman basemap in Web Mercator Auxiliary Sphere projection.
This geospatial dataset was created for the City of Pullman, Washington as a planimetric line set derived from aerial photography on April 19th 2018.
Service Item Id: 244739ca84104b468e84a3724e60a3d8
Copyright Text: Map Service: City of Pullman GIS
Data Source: Access Geographic, LLC, on behalf of Pullman, Washington, City of Pullman GIS
Spatial Reference:
102100
(3857)
Single Fused Map Cache: true
Tile Info:
- Height: 256
- Width: 256
- DPI: 96
-
Levels of Detail: 24
-
Level ID: 1
[ Start Tile, End Tile ]
- Resolution: 78271.5169639999
- Scale: 2.95828763795777E8
-
Level ID: 2
[ Start Tile, End Tile ]
- Resolution: 39135.7584820001
- Scale: 1.47914381897889E8
-
Level ID: 3
[ Start Tile, End Tile ]
- Resolution: 19567.8792409999
- Scale: 7.3957190948944E7
-
Level ID: 4
[ Start Tile, End Tile ]
- Resolution: 9783.93962049996
- Scale: 3.6978595474472E7
-
Level ID: 5
[ Start Tile, End Tile ]
- Resolution: 4891.96981024998
- Scale: 1.8489297737236E7
- Format: Mixed
- Compression Quality: 75.0
- Origin: X: -2.0037508342787E7
Y: 2.0037508342787E7
- Spatial Reference: 102100
(3857)
Storage Info:
- Storage Format: esriMapCacheStorageModeCompactV2
- Packet Size: 128
Initial Extent:
XMin: -1.3043979178025927E7
YMin: 5898149.25375784
XMax: -1.3043632862838792E7
YMax: 5898332.677208486
Spatial Reference: 102100
Full Extent:
XMin: -1.3048986365104651E7
YMin: 5894049.391870748
XMax: -1.3033967861475974E7
YMax: 5903429.6193547165
Spatial Reference: 102100
Units: esriMeters
Supported Image Format Types: PNG32,PNG24,PNG,JPG,DIB,TIFF,EMF,PS,PDF,GIF,SVG,SVGZ,BMP
Document Info:
Title: Pullman Light Grey Basemap
Author:
Comments: <DIV STYLE="text-align:Left;"><DIV><DIV><P><SPAN>Pullman basemap in Web Mercator Auxiliary Sphere projection.</SPAN></P><P><SPAN>This geospatial dataset was created for the City of Pullman, Washington as a planimetric line set derived from aerial photography on April 19th 2018.</SPAN></P></DIV></DIV></DIV>
Subject: This dataset was created as a geospatial visualization and planning tool for Pullman, Washington.
Category:
Keywords: Pullman,Basemap,Light Grey
AntialiasingMode: Fast
TextAntialiasingMode: Force
Supports Dynamic Layers: true
MaxRecordCount: 2000
MaxImageHeight: 4096
MaxImageWidth: 4096
Supported Query Formats: JSON, geoJSON, PBF
Supports Query Data Elements: true
Min Scale: 72223.819286
Max Scale: 70.5310735
Min LOD: 13
Max LOD: 23
Supports Datum Transformation: true
Child Resources:
Info
Dynamic Layer
Supported Operations:
Export Map
Identify
QueryLegends
QueryDomains
Find
Return Updates