View In:
ArcGIS JavaScript
ArcGIS Online Map Viewer
ArcGIS Earth
ArcGIS Pro
Service Description: Pullman 2018 hillshade in Web Mercator Auxiliary Sphere projection.
This geospatial dataset was created for the City of Pullman, Washington as a seamless 3-foot pixel resolution hillshade image, produced from the DEM derived for Strategic Alliance for Risk Reduction II, Whitman County, Washington Terrain Data Development, Federal Emergency Management Agency - https://hazards.fema.gov.
Map Name: Pullman 2018 Hillshade - Map Service
Legend
All Layers and Tables
Dynamic Legend
Dynamic All Layers
Layers:
Description: Pullman 2018 hillshade in Web Mercator Auxiliary Sphere projection.
This geospatial dataset was created for the City of Pullman, Washington as a seamless 3-foot pixel resolution hillshade image, produced from the DEM derived for Strategic Alliance for Risk Reduction II, Whitman County, Washington Terrain Data Development, Federal Emergency Management Agency - https://hazards.fema.gov.
Service Item Id: daca1ac986da485d936bac3cc3399e89
Copyright Text: Map Service: City of Pullman GISOriginal Imagery: Strategic Alliance for Risk Reduction II, Washington Terrain Data Development, Federal Emergency Management Agency - https://hazards.fema.gov.
Spatial Reference:
102100
(3857)
Single Fused Map Cache: true
Tile Info:
- Height: 256
- Width: 256
- DPI: 96
-
Levels of Detail: 24
-
Level ID: 1
[ Start Tile, End Tile ]
- Resolution: 78271.5169639999
- Scale: 2.95828763795777E8
-
Level ID: 2
[ Start Tile, End Tile ]
- Resolution: 39135.7584820001
- Scale: 1.47914381897889E8
-
Level ID: 3
[ Start Tile, End Tile ]
- Resolution: 19567.8792409999
- Scale: 7.3957190948944E7
-
Level ID: 4
[ Start Tile, End Tile ]
- Resolution: 9783.93962049996
- Scale: 3.6978595474472E7
-
Level ID: 5
[ Start Tile, End Tile ]
- Resolution: 4891.96981024998
- Scale: 1.8489297737236E7
- Format: Mixed
- Compression Quality: 75.0
- Origin: X: -2.0037508342787E7
Y: 2.0037508342787E7
- Spatial Reference: 102100
(3857)
Storage Info:
- Storage Format: esriMapCacheStorageModeCompactV2
- Packet Size: 128
Initial Extent:
XMin: -1.3044405836771714E7
YMin: 5898207.485549695
XMax: -1.3043788498511927E7
YMax: 5898679.601248368
Spatial Reference: 102100
Full Extent:
XMin: -1.3054838415425453E7
YMin: 5888949.078165542
XMax: -1.3030761911001982E7
YMax: 5908625.948950387
Spatial Reference: 102100
Units: esriMeters
Supported Image Format Types: PNG32,PNG24,PNG,JPG,DIB,TIFF,EMF,PS,PDF,GIF,SVG,SVGZ,BMP
Document Info:
Title: Pullman 2018 Hillshade
Author:
Comments: <DIV STYLE="text-align:Left;"><DIV><DIV><P><SPAN>Pullman 2018 hillshade in Web Mercator Auxiliary Sphere projection.</SPAN></P><P><SPAN>This geospatial dataset was created for the City of Pullman, Washington as a seamless 3-foot pixel resolution hillshade image, produced from the DEM derived for Strategic Alliance for Risk Reduction II, Whitman County, Washington Terrain Data Development, Federal Emergency Management Agency - https://hazards.fema.gov.</SPAN></P></DIV></DIV></DIV>
Subject: This dataset was created as a geospatial visualization and planning tool for Pullman, Washington.
Category:
Keywords: Pullman,2018,Ortho,Imagery,Aerial,Photography,Hillshade,3-foot
AntialiasingMode: Fast
TextAntialiasingMode: Force
Supports Dynamic Layers: true
Resampling: false
MaxRecordCount: 2000
MaxImageHeight: 4096
MaxImageWidth: 4096
Supported Query Formats: JSON, geoJSON, PBF
Supports Query Data Elements: true
Min Scale: 72223.819286
Max Scale: 70.5310735
Supports Datum Transformation: true
Child Resources:
Info
Dynamic Layer
Supported Operations:
Export Map
Identify
QueryLegends
QueryDomains
Find
EstimateExportTilesSize
ExportTiles
Return Updates